BEGIN:VCALENDAR
VERSION:2.0
PRODID:-//hacksw/handcal//NONSGML v1.0//EN
CALSCALE:GREGORIAN
BEGIN:VEVENT
DTSTART:20150702T091500Z
DTEND:20150702T103000Z
UID:e16178
DTSTAMP:20260421T114514Z
LOCATION:Jacob Ziskind Building
DESCRIPTION:Vision and Robotics Seminar
SUMMARY:Vision and Robotics Seminar
END:VEVENT
END:VCALENDAR