BEGIN:VCALENDAR
VERSION:2.0
PRODID:-//hacksw/handcal//NONSGML v1.0//EN
CALSCALE:GREGORIAN
BEGIN:VEVENT
DTSTART:20150701T101500Z
DTEND:20150701T113000Z
UID:e16181
DTSTAMP:20260421T085415Z
LOCATION:
DESCRIPTION:A new type of Weyl semimetal
SUMMARY:A new type of Weyl semimetal
END:VEVENT
END:VCALENDAR