BEGIN:VCALENDAR
VERSION:2.0
PRODID:-//hacksw/handcal//NONSGML v1.0//EN
CALSCALE:GREGORIAN
BEGIN:VEVENT
DTSTART:20150729T063000Z
DTEND:20150729T063000Z
UID:e16184
DTSTAMP:20260420T050120Z
LOCATION:Arthur and Rochelle Belfer Building for Biomedical Research
DESCRIPTION:PacBio SMRT Sequencing overview
SUMMARY:PacBio SMRT Sequencing overview
END:VEVENT
END:VCALENDAR