BEGIN:VCALENDAR
VERSION:2.0
PRODID:-//hacksw/handcal//NONSGML v1.0//EN
CALSCALE:GREGORIAN
BEGIN:VEVENT
DTSTART:20150723T163000Z
DTEND:20150723T180000Z
UID:e16195
DTSTAMP:20260419T182240Z
LOCATION:Michael Sela Auditorium
DESCRIPTION:Music and Astrophysics in a "Journey Among The Stars" 
SUMMARY:Music and Astrophysics in a "Journey Among The Stars" 
END:VEVENT
END:VCALENDAR