BEGIN:VCALENDAR
VERSION:2.0
PRODID:-//hacksw/handcal//NONSGML v1.0//EN
CALSCALE:GREGORIAN
BEGIN:VEVENT
DTSTART:20150805T080000Z
DTEND:20150805T093000Z
UID:e16199
DTSTAMP:20260419T182219Z
LOCATION:Nancy and Stephen Grand Israel National Center for Personalized Medicine
DESCRIPTION:G-INCPM Seminar - Dr. Eran Elinav\, Dept. of Immunology\, Weizmann Institute - "Host Microbiome Interactions in Health and Disease"
SUMMARY:G-INCPM Seminar - Dr. Eran Elinav\, Dept. of Immunology\, Weizmann Institute - "Host Microbiome Interactions in Health and Disease"
END:VEVENT
END:VCALENDAR