BEGIN:VCALENDAR
VERSION:2.0
PRODID:-//hacksw/handcal//NONSGML v1.0//EN
CALSCALE:GREGORIAN
BEGIN:VEVENT
DTSTART:20150902T080000Z
DTEND:20150902T093000Z
UID:e16206
DTSTAMP:20260419T185448Z
LOCATION:Nancy and Stephen Grand Israel National Center for Personalized Medicine
DESCRIPTION:G-INCPM Special Seminar - Dr. Michael Angelo\, MD\, Instructor\, Department of Pathology\, Stanford University School of Medicine - High dimensional\, immunohistochemical imaging in clinical tissue biopsies using multiplexed ion beam imaging (MIBI) 
SUMMARY:G-INCPM Special Seminar - Dr. Michael Angelo\, MD\, Instructor\, Department of Pathology\, Stanford University School of Medicine - High dimensional\, immunohistochemical imaging in clinical tissue biopsies using multiplexed ion beam imaging (MIBI) 
END:VEVENT
END:VCALENDAR