BEGIN:VCALENDAR
VERSION:2.0
PRODID:-//hacksw/handcal//NONSGML v1.0//EN
CALSCALE:GREGORIAN
BEGIN:VEVENT
DTSTART:20150818T143000Z
DTEND:20150818T160000Z
UID:e16207
DTSTAMP:20260419T182220Z
LOCATION:Michael Sela Auditorium
DESCRIPTION:Shuliat hakosem - children's theater 
SUMMARY:Shuliat hakosem - children's theater 
END:VEVENT
END:VCALENDAR