BEGIN:VCALENDAR
VERSION:2.0
PRODID:-//hacksw/handcal//NONSGML v1.0//EN
CALSCALE:GREGORIAN
BEGIN:VEVENT
DTSTART:20150728T093000Z
DTEND:20150728T093000Z
UID:e16210
DTSTAMP:20260419T182156Z
LOCATION:Gerhard M.J. Schmidt Lecture Hall
DESCRIPTION:Exploring neuro-glio-vascular interactions through in vivo imaging of the mouse brain
SUMMARY:Exploring neuro-glio-vascular interactions through in vivo imaging of the mouse brain
END:VEVENT
END:VCALENDAR