BEGIN:VCALENDAR
VERSION:2.0
PRODID:-//hacksw/handcal//NONSGML v1.0//EN
CALSCALE:GREGORIAN
BEGIN:VEVENT
DTSTART:20150803T063000Z
DTEND:20150803T073000Z
UID:e16217
DTSTAMP:20260419T231727Z
LOCATION:Gerhard M.J. Schmidt Lecture Hall
DESCRIPTION:Co-translational assembly constrains the structure and folding of homomeric proteins
SUMMARY:Co-translational assembly constrains the structure and folding of homomeric proteins
END:VEVENT
END:VCALENDAR