BEGIN:VCALENDAR
VERSION:2.0
PRODID:-//hacksw/handcal//NONSGML v1.0//EN
CALSCALE:GREGORIAN
BEGIN:VEVENT
DTSTART:20150809T100000Z
DTEND:20150809T100000Z
UID:e16218
DTSTAMP:20260419T182215Z
LOCATION:Nella and Leon Benoziyo Building for Brain Research
DESCRIPTION:Munc13s - Presynaptic Regulators of Short-Term Synaptic Plasticity in Physiology and Pathology 
SUMMARY:Munc13s - Presynaptic Regulators of Short-Term Synaptic Plasticity in Physiology and Pathology 
END:VEVENT
END:VCALENDAR