BEGIN:VCALENDAR
VERSION:2.0
PRODID:-//hacksw/handcal//NONSGML v1.0//EN
CALSCALE:GREGORIAN
BEGIN:VEVENT
DTSTART:20150728T101500Z
DTEND:20150728T111500Z
UID:e16220
DTSTAMP:20260419T182155Z
LOCATION:Edna and K.B. Weissman Building of Physical Sciences
DESCRIPTION:New Attosecond Spectroscopies for Correlation-Induced Electron Hole Dynamics
SUMMARY:New Attosecond Spectroscopies for Correlation-Induced Electron Hole Dynamics
END:VEVENT
END:VCALENDAR