BEGIN:VCALENDAR
VERSION:2.0
PRODID:-//hacksw/handcal//NONSGML v1.0//EN
CALSCALE:GREGORIAN
BEGIN:VEVENT
DTSTART:20150907T110000Z
DTEND:20150907T120000Z
UID:e16223
DTSTAMP:20260419T154150Z
LOCATION:Max and Lillian Candiotty Building
DESCRIPTION:Tropomyosins: Master regulators of the actin cytoskeleton and a new target for chemotherapy
SUMMARY:Tropomyosins: Master regulators of the actin cytoskeleton and a new target for chemotherapy
END:VEVENT
END:VCALENDAR