BEGIN:VCALENDAR
VERSION:2.0
PRODID:-//hacksw/handcal//NONSGML v1.0//EN
CALSCALE:GREGORIAN
BEGIN:VEVENT
DTSTART:20150921T110000Z
DTEND:20150921T110000Z
UID:e16225
DTSTAMP:20260420T091544Z
LOCATION:
DESCRIPTION:Understanding serous ovarian cancer: will prevention and early detection be possible?
SUMMARY:Understanding serous ovarian cancer: will prevention and early detection be possible?
END:VEVENT
END:VCALENDAR