BEGIN:VCALENDAR
VERSION:2.0
PRODID:-//hacksw/handcal//NONSGML v1.0//EN
CALSCALE:GREGORIAN
BEGIN:VEVENT
DTSTART:20161218T120000Z
DTEND:20161218T140000Z
UID:e16230
DTSTAMP:20260421T114625Z
LOCATION:The David Lopatie Conference Centre
DESCRIPTION:2016 Weizmann Memorial Lectures
SUMMARY:2016 Weizmann Memorial Lectures
END:VEVENT
END:VCALENDAR