BEGIN:VCALENDAR
VERSION:2.0
PRODID:-//hacksw/handcal//NONSGML v1.0//EN
CALSCALE:GREGORIAN
BEGIN:VEVENT
DTSTART:20150817T081500Z
DTEND:20150817T081500Z
UID:e16241
DTSTAMP:20260419T182113Z
LOCATION:Ullmann Building of Life Sciences
DESCRIPTION:Functional analyses of non-biotrophic fungi -
SUMMARY:Functional analyses of non-biotrophic fungi -
END:VEVENT
END:VCALENDAR