BEGIN:VCALENDAR
VERSION:2.0
PRODID:-//hacksw/handcal//NONSGML v1.0//EN
CALSCALE:GREGORIAN
BEGIN:VEVENT
DTSTART:20150813T081500Z
DTEND:20150813T081500Z
UID:e16242
DTSTAMP:20260419T182203Z
LOCATION:Ullmann Building of Life Sciences
DESCRIPTION:Plant hormone metabolism during plant -
SUMMARY:Plant hormone metabolism during plant -
END:VEVENT
END:VCALENDAR