BEGIN:VCALENDAR
VERSION:2.0
PRODID:-//hacksw/handcal//NONSGML v1.0//EN
CALSCALE:GREGORIAN
BEGIN:VEVENT
DTSTART:20150825T110000Z
DTEND:20150825T120000Z
UID:e16245
DTSTAMP:20260419T185608Z
LOCATION:Helen and Milton A. Kimmelman Building
DESCRIPTION:Some Aspects of External Electric Field-Effects on Small Molecules and their Reactivity
SUMMARY:Some Aspects of External Electric Field-Effects on Small Molecules and their Reactivity
END:VEVENT
END:VCALENDAR