BEGIN:VCALENDAR
VERSION:2.0
PRODID:-//hacksw/handcal//NONSGML v1.0//EN
CALSCALE:GREGORIAN
BEGIN:VEVENT
DTSTART:20150902T100000Z
DTEND:20150902T100000Z
UID:e16253
DTSTAMP:20260421T060002Z
LOCATION:Perlman Chemical Sciences Building
DESCRIPTION:Chemical Physics Guest Seminar
SUMMARY:Chemical Physics Guest Seminar
END:VEVENT
END:VCALENDAR