BEGIN:VCALENDAR
VERSION:2.0
PRODID:-//hacksw/handcal//NONSGML v1.0//EN
CALSCALE:GREGORIAN
BEGIN:VEVENT
DTSTART:20150831T080000Z
DTEND:20150831T080000Z
UID:e16259
DTSTAMP:20260419T231726Z
LOCATION:Edna and K.B. Weissman Building of Physical Sciences
DESCRIPTION:A Trajectory's Tale: Kinetic Trap Analysis Identifies Coexisting Origins of Anomalous Dynamics in Proteins
SUMMARY:A Trajectory's Tale: Kinetic Trap Analysis Identifies Coexisting Origins of Anomalous Dynamics in Proteins
END:VEVENT
END:VCALENDAR