BEGIN:VCALENDAR
VERSION:2.0
PRODID:-//hacksw/handcal//NONSGML v1.0//EN
CALSCALE:GREGORIAN
BEGIN:VEVENT
DTSTART:20150906T091500Z
DTEND:20150906T091500Z
UID:e16266
DTSTAMP:20260420T122410Z
LOCATION:Gerhard M.J. Schmidt Lecture Hall
DESCRIPTION:Rapid and context-dependent plasticity of human olfactory functions
SUMMARY:Rapid and context-dependent plasticity of human olfactory functions
END:VEVENT
END:VCALENDAR