BEGIN:VCALENDAR
VERSION:2.0
PRODID:-//hacksw/handcal//NONSGML v1.0//EN
CALSCALE:GREGORIAN
BEGIN:VEVENT
DTSTART:20150909T080000Z
DTEND:20150909T080000Z
UID:e16267
DTSTAMP:20260419T185557Z
LOCATION:Edna and K.B. Weissman Building of Physical Sciences
DESCRIPTION:Pentaquarks\, doubly heavy exotic baryons and mesons and how to look for them
SUMMARY:Pentaquarks\, doubly heavy exotic baryons and mesons and how to look for them
END:VEVENT
END:VCALENDAR