BEGIN:VCALENDAR
VERSION:2.0
PRODID:-//hacksw/handcal//NONSGML v1.0//EN
CALSCALE:GREGORIAN
BEGIN:VEVENT
DTSTART:20151101T110000Z
DTEND:20151101T120000Z
UID:e16302
DTSTAMP:20260419T154139Z
LOCATION:Raoul and Graziella de Picciotto Building for Scientific and Technical Support
DESCRIPTION:The molecular and phenotypic landscape of host-pathogen interactions
SUMMARY:The molecular and phenotypic landscape of host-pathogen interactions
END:VEVENT
END:VCALENDAR