BEGIN:VCALENDAR
VERSION:2.0
PRODID:-//hacksw/handcal//NONSGML v1.0//EN
CALSCALE:GREGORIAN
BEGIN:VEVENT
DTSTART:20151108T080000Z
DTEND:20151108T090000Z
UID:e16304
DTSTAMP:20260421T051308Z
LOCATION:Raoul and Graziella de Picciotto Building for Scientific and Technical Support
DESCRIPTION:The MYCN oncoprotein and the emergence of chemotherapy resisters
SUMMARY:The MYCN oncoprotein and the emergence of chemotherapy resisters
END:VEVENT
END:VCALENDAR