BEGIN:VCALENDAR
VERSION:2.0
PRODID:-//hacksw/handcal//NONSGML v1.0//EN
CALSCALE:GREGORIAN
BEGIN:VEVENT
DTSTART:19691231T160000Z
DTEND:19691231T160000Z
UID:e16332
DTSTAMP:20260421T213506Z
LOCATION:Arthur and Rochelle Belfer Building for Biomedical Research
DESCRIPTION:RNA-mediated regulation of quorum sensing in bacteria
SUMMARY:RNA-mediated regulation of quorum sensing in bacteria
END:VEVENT
END:VCALENDAR