BEGIN:VCALENDAR
VERSION:2.0
PRODID:-//hacksw/handcal//NONSGML v1.0//EN
CALSCALE:GREGORIAN
BEGIN:VEVENT
DTSTART:20151102T060000Z
DTEND:20151102T080000Z
UID:e16341
DTSTAMP:20260420T081010Z
LOCATION:Arthur and Rochelle Belfer Building for Biomedical Research
DESCRIPTION:Quantitative fate mapping of hematopoiesis in situ
SUMMARY:Quantitative fate mapping of hematopoiesis in situ
END:VEVENT
END:VCALENDAR