BEGIN:VCALENDAR
VERSION:2.0
PRODID:-//hacksw/handcal//NONSGML v1.0//EN
CALSCALE:GREGORIAN
BEGIN:VEVENT
DTSTART:20151103T070000Z
DTEND:20151103T080000Z
UID:e16342
DTSTAMP:20260419T185528Z
LOCATION:Arthur and Rochelle Belfer Building for Biomedical Research
DESCRIPTION:Eukaryotic gene regulation as frequency modulation
SUMMARY:Eukaryotic gene regulation as frequency modulation
END:VEVENT
END:VCALENDAR