BEGIN:VCALENDAR
VERSION:2.0
PRODID:-//hacksw/handcal//NONSGML v1.0//EN
CALSCALE:GREGORIAN
BEGIN:VEVENT
DTSTART:20151109T060000Z
DTEND:20151109T080000Z
UID:e16343
DTSTAMP:20260421T051310Z
LOCATION:Arthur and Rochelle Belfer Building for Biomedical Research
DESCRIPTION:On the coordination dynamics of moving bodies
SUMMARY:On the coordination dynamics of moving bodies
END:VEVENT
END:VCALENDAR