BEGIN:VCALENDAR
VERSION:2.0
PRODID:-//hacksw/handcal//NONSGML v1.0//EN
CALSCALE:GREGORIAN
BEGIN:VEVENT
DTSTART:20151110T070000Z
DTEND:20151110T080000Z
UID:e16344
DTSTAMP:20260419T231632Z
LOCATION:Arthur and Rochelle Belfer Building for Biomedical Research
DESCRIPTION:On the origins of agency
SUMMARY:On the origins of agency
END:VEVENT
END:VCALENDAR