BEGIN:VCALENDAR
VERSION:2.0
PRODID:-//hacksw/handcal//NONSGML v1.0//EN
CALSCALE:GREGORIAN
BEGIN:VEVENT
DTSTART:20151104T070000Z
DTEND:20151104T070000Z
UID:e16361
DTSTAMP:20260419T231713Z
LOCATION:Arthur and Rochelle Belfer Building for Biomedical Research
DESCRIPTION:Developmental axon pruning requires destabilization of cell adhesion by JNK signaling
SUMMARY:Developmental axon pruning requires destabilization of cell adhesion by JNK signaling
END:VEVENT
END:VCALENDAR