BEGIN:VCALENDAR
VERSION:2.0
PRODID:-//hacksw/handcal//NONSGML v1.0//EN
CALSCALE:GREGORIAN
BEGIN:VEVENT
DTSTART:20160314T080000Z
DTEND:20160314T091500Z
UID:e16374
DTSTAMP:20260421T235421Z
LOCATION:Gerhard M.J. Schmidt Lecture Hall
DESCRIPTION:"Mesoscopic protein-rich clusters in protein solutions"
SUMMARY:"Mesoscopic protein-rich clusters in protein solutions"
END:VEVENT
END:VCALENDAR