BEGIN:VCALENDAR
VERSION:2.0
PRODID:-//hacksw/handcal//NONSGML v1.0//EN
CALSCALE:GREGORIAN
BEGIN:VEVENT
DTSTART:20160331T080000Z
DTEND:20160331T091500Z
UID:e16376
DTSTAMP:20260421T102941Z
LOCATION:Gerhard M.J. Schmidt Lecture Hall
DESCRIPTION:"Nanostructured Polymer Hybrids"
SUMMARY:"Nanostructured Polymer Hybrids"
END:VEVENT
END:VCALENDAR