BEGIN:VCALENDAR
VERSION:2.0
PRODID:-//hacksw/handcal//NONSGML v1.0//EN
CALSCALE:GREGORIAN
BEGIN:VEVENT
DTSTART:19691231T160000Z
DTEND:19691231T160000Z
UID:e16392
DTSTAMP:20260420T122411Z
LOCATION:The David Lopatie Conference Centre
DESCRIPTION:Student Conference on Plant Stress- Ecology\, physiology\, metabolism\, signaling and genetic regulation
SUMMARY:Student Conference on Plant Stress- Ecology\, physiology\, metabolism\, signaling and genetic regulation
END:VEVENT
END:VCALENDAR