BEGIN:VCALENDAR
VERSION:2.0
PRODID:-//hacksw/handcal//NONSGML v1.0//EN
CALSCALE:GREGORIAN
BEGIN:VEVENT
DTSTART:20151126T180000Z
DTEND:20151126T193000Z
UID:e16393
DTSTAMP:20260420T050132Z
LOCATION:Michael Sela Auditorium
DESCRIPTION:This City - Hip Hop Musical 
SUMMARY:This City - Hip Hop Musical 
END:VEVENT
END:VCALENDAR