BEGIN:VCALENDAR
VERSION:2.0
PRODID:-//hacksw/handcal//NONSGML v1.0//EN
CALSCALE:GREGORIAN
BEGIN:VEVENT
DTSTART:20151115T120000Z
DTEND:20151115T130000Z
UID:e16395
DTSTAMP:20260421T082822Z
LOCATION:
DESCRIPTION:Circadian Clock Control by Polyamine Levels through a Mechanism that Declines with Age
SUMMARY:Circadian Clock Control by Polyamine Levels through a Mechanism that Declines with Age
END:VEVENT
END:VCALENDAR