BEGIN:VCALENDAR
VERSION:2.0
PRODID:-//hacksw/handcal//NONSGML v1.0//EN
CALSCALE:GREGORIAN
BEGIN:VEVENT
DTSTART:20151103T110000Z
DTEND:20151103T110000Z
UID:e16400
DTSTAMP:20260420T195134Z
LOCATION:
DESCRIPTION:Transmission of mechanical force: the role of the AmotL2 /cadherin complex in normal development and cancer
SUMMARY:Transmission of mechanical force: the role of the AmotL2 /cadherin complex in normal development and cancer
END:VEVENT
END:VCALENDAR