BEGIN:VCALENDAR
VERSION:2.0
PRODID:-//hacksw/handcal//NONSGML v1.0//EN
CALSCALE:GREGORIAN
BEGIN:VEVENT
DTSTART:20151127T180000Z
DTEND:20151127T180000Z
UID:e16404
DTSTAMP:20260420T120006Z
LOCATION:Michael Sela Auditorium
DESCRIPTION:The doctor and the patient - Dr. Tzachi Ben Zion and Yair Nitzani 
SUMMARY:The doctor and the patient - Dr. Tzachi Ben Zion and Yair Nitzani 
END:VEVENT
END:VCALENDAR