BEGIN:VCALENDAR
VERSION:2.0
PRODID:-//hacksw/handcal//NONSGML v1.0//EN
CALSCALE:GREGORIAN
BEGIN:VEVENT
DTSTART:20151110T110000Z
DTEND:20151110T120000Z
UID:e16432
DTSTAMP:20260421T051225Z
LOCATION:Helen and Milton A. Kimmelman Building
DESCRIPTION:Aiming at the sweet spot of disease
SUMMARY:Aiming at the sweet spot of disease
END:VEVENT
END:VCALENDAR