BEGIN:VCALENDAR
VERSION:2.0
PRODID:-//hacksw/handcal//NONSGML v1.0//EN
CALSCALE:GREGORIAN
BEGIN:VEVENT
DTSTART:20151116T111500Z
DTEND:20151116T111500Z
UID:e16436
DTSTAMP:20260421T114507Z
LOCATION:Edna and K.B. Weissman Building of Physical Sciences
DESCRIPTION:Probabilistic inference of immune repertoires diversity
SUMMARY:Probabilistic inference of immune repertoires diversity
END:VEVENT
END:VCALENDAR