BEGIN:VCALENDAR
VERSION:2.0
PRODID:-//hacksw/handcal//NONSGML v1.0//EN
CALSCALE:GREGORIAN
BEGIN:VEVENT
DTSTART:20151125T080000Z
DTEND:20151125T080000Z
UID:e16448
DTSTAMP:20260420T155054Z
LOCATION:Perlman Chemical Sciences Building
DESCRIPTION:Detonation nanodiamond as attractive building block for nanotechnology
SUMMARY:Detonation nanodiamond as attractive building block for nanotechnology
END:VEVENT
END:VCALENDAR