BEGIN:VCALENDAR
VERSION:2.0
PRODID:-//hacksw/handcal//NONSGML v1.0//EN
CALSCALE:GREGORIAN
BEGIN:VEVENT
DTSTART:20160119T070000Z
DTEND:20160119T080000Z
UID:e16450
DTSTAMP:20260419T182157Z
LOCATION:Wolfson Building for Biological Research
DESCRIPTION:Rationality's Normative Limits: A New Look at Scientific Revolutions.
SUMMARY:Rationality's Normative Limits: A New Look at Scientific Revolutions.
END:VEVENT
END:VCALENDAR