BEGIN:VCALENDAR
VERSION:2.0
PRODID:-//hacksw/handcal//NONSGML v1.0//EN
CALSCALE:GREGORIAN
BEGIN:VEVENT
DTSTART:20151116T080000Z
DTEND:20151116T090000Z
UID:e16451
DTSTAMP:20260420T155042Z
LOCATION:Helen and Milton A. Kimmelman Building
DESCRIPTION:Self-Assembly Control of Chemical Structures on the Nano-Scale: Design\, Synthesis\, and Function
SUMMARY:Self-Assembly Control of Chemical Structures on the Nano-Scale: Design\, Synthesis\, and Function
END:VEVENT
END:VCALENDAR