BEGIN:VCALENDAR
VERSION:2.0
PRODID:-//hacksw/handcal//NONSGML v1.0//EN
CALSCALE:GREGORIAN
BEGIN:VEVENT
DTSTART:20151110T111500Z
DTEND:20151110T111500Z
UID:e16454
DTSTAMP:20260419T185608Z
LOCATION:Wolfson Building for Biological Research
DESCRIPTION:MCB Student Seminar
SUMMARY:MCB Student Seminar
END:VEVENT
END:VCALENDAR