BEGIN:VCALENDAR
VERSION:2.0
PRODID:-//hacksw/handcal//NONSGML v1.0//EN
CALSCALE:GREGORIAN
BEGIN:VEVENT
DTSTART:20160127T081500Z
DTEND:20160127T091500Z
UID:e16465
DTSTAMP:20260420T115958Z
LOCATION:Nella and Leon Benoziyo Physics Building
DESCRIPTION:TBD
SUMMARY:TBD
END:VEVENT
END:VCALENDAR