BEGIN:VCALENDAR
VERSION:2.0
PRODID:-//hacksw/handcal//NONSGML v1.0//EN
CALSCALE:GREGORIAN
BEGIN:VEVENT
DTSTART:20151124T093000Z
DTEND:20151124T093000Z
UID:e16477
DTSTAMP:20260421T093343Z
LOCATION:Wolfson Building for Biological Research
DESCRIPTION:MCB Student Seminar
SUMMARY:MCB Student Seminar
END:VEVENT
END:VCALENDAR