BEGIN:VCALENDAR
VERSION:2.0
PRODID:-//hacksw/handcal//NONSGML v1.0//EN
CALSCALE:GREGORIAN
BEGIN:VEVENT
DTSTART:20151202T081500Z
DTEND:20151202T093000Z
UID:e16488
DTSTAMP:20260420T050120Z
LOCATION:Nella and Leon Benoziyo Physics Building
DESCRIPTION:The Emergence of Pattern in Random Processes
SUMMARY:The Emergence of Pattern in Random Processes
END:VEVENT
END:VCALENDAR