BEGIN:VCALENDAR
VERSION:2.0
PRODID:-//hacksw/handcal//NONSGML v1.0//EN
CALSCALE:GREGORIAN
BEGIN:VEVENT
DTSTART:20160315T070000Z
DTEND:20160315T073000Z
UID:e16492
DTSTAMP:20260421T114655Z
LOCATION:Wolfson Building for Biological Research
DESCRIPTION:Measuring enzymatic activity in vitro and in vivo
SUMMARY:Measuring enzymatic activity in vitro and in vivo
END:VEVENT
END:VCALENDAR