BEGIN:VCALENDAR
VERSION:2.0
PRODID:-//hacksw/handcal//NONSGML v1.0//EN
CALSCALE:GREGORIAN
BEGIN:VEVENT
DTSTART:20160329T070000Z
DTEND:20160329T080000Z
UID:e16494
DTSTAMP:20260421T150453Z
LOCATION:Wolfson Building for Biological Research
DESCRIPTION:Mapping the protein modification landscape in health and disease
SUMMARY:Mapping the protein modification landscape in health and disease
END:VEVENT
END:VCALENDAR