BEGIN:VCALENDAR
VERSION:2.0
PRODID:-//hacksw/handcal//NONSGML v1.0//EN
CALSCALE:GREGORIAN
BEGIN:VEVENT
DTSTART:20151209T080000Z
DTEND:20151209T090000Z
UID:e16498
DTSTAMP:20260421T085113Z
LOCATION:Wolfson Building for Biological Research
DESCRIPTION:The relevance of extra-pineal melatonin in the control of cell invasiveness\, mobility and proliferation. A link between infective and proliferative diseases
SUMMARY:The relevance of extra-pineal melatonin in the control of cell invasiveness\, mobility and proliferation. A link between infective and proliferative diseases
END:VEVENT
END:VCALENDAR