BEGIN:VCALENDAR
VERSION:2.0
PRODID:-//hacksw/handcal//NONSGML v1.0//EN
CALSCALE:GREGORIAN
BEGIN:VEVENT
DTSTART:20160119T090000Z
DTEND:20160119T100000Z
UID:e16504
DTSTAMP:20260422T091136Z
LOCATION:Dolfi and Lola Ebner Auditorium
DESCRIPTION:Science Time - Popular Lecture
SUMMARY:Science Time - Popular Lecture
END:VEVENT
END:VCALENDAR