BEGIN:VCALENDAR
VERSION:2.0
PRODID:-//hacksw/handcal//NONSGML v1.0//EN
CALSCALE:GREGORIAN
BEGIN:VEVENT
DTSTART:20151124T070000Z
DTEND:20151124T080000Z
UID:e16510
DTSTAMP:20260421T173917Z
LOCATION:Arthur and Rochelle Belfer Building for Biomedical Research
DESCRIPTION:(Computational) genomics of post-transcriptional regulation: from RNA-binding proteins to translation
SUMMARY:(Computational) genomics of post-transcriptional regulation: from RNA-binding proteins to translation
END:VEVENT
END:VCALENDAR